BEGIN:VCALENDAR
VERSION:2.0
PRODID:-//Generazione Senior - ECPv6.15.20//NONSGML v1.0//EN
CALSCALE:GREGORIAN
METHOD:PUBLISH
X-WR-CALNAME:Generazione Senior
X-ORIGINAL-URL:https://generazionesenior.it
X-WR-CALDESC:Eventi per Generazione Senior
REFRESH-INTERVAL;VALUE=DURATION:PT1H
X-Robots-Tag:noindex
X-PUBLISHED-TTL:PT1H
BEGIN:VTIMEZONE
TZID:Europe/Rome
BEGIN:DAYLIGHT
TZOFFSETFROM:+0100
TZOFFSETTO:+0200
TZNAME:CEST
DTSTART:20240331T010000
END:DAYLIGHT
BEGIN:STANDARD
TZOFFSETFROM:+0200
TZOFFSETTO:+0100
TZNAME:CET
DTSTART:20241027T010000
END:STANDARD
BEGIN:DAYLIGHT
TZOFFSETFROM:+0100
TZOFFSETTO:+0200
TZNAME:CEST
DTSTART:20250330T010000
END:DAYLIGHT
BEGIN:STANDARD
TZOFFSETFROM:+0200
TZOFFSETTO:+0100
TZNAME:CET
DTSTART:20251026T010000
END:STANDARD
BEGIN:DAYLIGHT
TZOFFSETFROM:+0100
TZOFFSETTO:+0200
TZNAME:CEST
DTSTART:20260329T010000
END:DAYLIGHT
BEGIN:STANDARD
TZOFFSETFROM:+0200
TZOFFSETTO:+0100
TZNAME:CET
DTSTART:20261025T010000
END:STANDARD
END:VTIMEZONE
BEGIN:VEVENT
DTSTART;TZID=Europe/Rome:20250320T203000
DTEND;TZID=Europe/Rome:20250320T223000
DTSTAMP:20260420T141243
CREATED:20250304T115734Z
LAST-MODIFIED:20250304T153919Z
UID:3306-1742502600-1742509800@generazionesenior.it
SUMMARY:LA BELLEZZA DELLA CURA FILM FESTIVAL - AMICHE MAI
DESCRIPTION:Continua la seconda edizione de “La bellezza della cura Film Festival” con il secondo appuntamento di proiezione giovedì 20 marzo 2025\, ore 20:30 presso il Capitol Anteo spazioCinema di Monza.\n\n  \n\n“Amichemai” è una commedia on the road che racconta la storia di Anna (Angela Finocchiaro) e Aysè (Serra Yilmaz)\, due donne molto diverse tra loro che si trovano a condividere un viaggio inaspettato. Anna è una donna italiana di mezza età\, abituata a una vita ordinaria e prevedibile\, mentre Aysè è una donna turca dal carattere forte e indipendente\, con una visione della vita completamente diversa.\nIl viaggio diventa un’occasione per entrambe di confrontarsi con le proprie paure\, pregiudizi e desideri nascosti. Attraverso situazioni comiche e momenti di riflessione\, le due protagoniste imparano a conoscersi e a rispettarsi\, scoprendo che\, nonostante le differenze\, possono trovare un terreno comune e costruire un’amicizia autentica.\n\nIl film esplora come due persone apparentemente incompatibili possano trovare un legame profondo\, superando barriere culturali e personali.\nPur essendo una commedia\, il film affronta temi importanti con leggerezza e sensibilità\, mantenendo lo stile originale di Maurizio Nichetti.\nAngela Finocchiaro e Serra Yilmaz\, due attrici di grande talento\, portano sullo schermo una chimica unica\, che è stata lodata dalla critica.\n\n\nIn occasione di questa proiezione\, il regista sarà presente in sala!\n  \nIl costo del biglietto è di 8\,5 euro\, e verrà presentato in anteprima!\n  \nL’acquisto avviene in loco\, presso CapitolAnteo spazioCinema\, sito in via Pennati 10\, Monza (MB)\n  \nVi aspettiamo!
URL:https://generazionesenior.it/evento/la-bellezza-della-cura-film-festival-amiche-mai/
LOCATION:Capitol Anteo spazioCinema\, Via Pennati 10\, Monza\, Monza e Brianza\, 20900\, Italia
ATTACH;FMTTYPE=image/jpeg:https://generazionesenior.it/wp-content/uploads/2024/02/Logo-BCFF.jpg
ORGANIZER;CN="Generazione Senior":MAILTO:generazione.senior@cooplameridiana.it
END:VEVENT
END:VCALENDAR