BEGIN:VCALENDAR
VERSION:2.0
PRODID:-//Generazione Senior - ECPv6.15.20//NONSGML v1.0//EN
CALSCALE:GREGORIAN
METHOD:PUBLISH
X-WR-CALNAME:Generazione Senior
X-ORIGINAL-URL:https://generazionesenior.it
X-WR-CALDESC:Eventi per Generazione Senior
REFRESH-INTERVAL;VALUE=DURATION:PT1H
X-Robots-Tag:noindex
X-PUBLISHED-TTL:PT1H
BEGIN:VTIMEZONE
TZID:Europe/Rome
BEGIN:DAYLIGHT
TZOFFSETFROM:+0100
TZOFFSETTO:+0200
TZNAME:CEST
DTSTART:20230326T010000
END:DAYLIGHT
BEGIN:STANDARD
TZOFFSETFROM:+0200
TZOFFSETTO:+0100
TZNAME:CET
DTSTART:20231029T010000
END:STANDARD
BEGIN:DAYLIGHT
TZOFFSETFROM:+0100
TZOFFSETTO:+0200
TZNAME:CEST
DTSTART:20240331T010000
END:DAYLIGHT
BEGIN:STANDARD
TZOFFSETFROM:+0200
TZOFFSETTO:+0100
TZNAME:CET
DTSTART:20241027T010000
END:STANDARD
BEGIN:DAYLIGHT
TZOFFSETFROM:+0100
TZOFFSETTO:+0200
TZNAME:CEST
DTSTART:20250330T010000
END:DAYLIGHT
BEGIN:STANDARD
TZOFFSETFROM:+0200
TZOFFSETTO:+0100
TZNAME:CET
DTSTART:20251026T010000
END:STANDARD
END:VTIMEZONE
BEGIN:VEVENT
DTSTART;TZID=Europe/Rome:20240418T203000
DTEND;TZID=Europe/Rome:20240418T230000
DTSTAMP:20260420T140842
CREATED:20240328T131331Z
LAST-MODIFIED:20240328T131424Z
UID:1715-1713472200-1713481200@generazionesenior.it
SUMMARY:La bellezza della cura Film Festival - L'invenzione della neve
DESCRIPTION:Continua la prima edizione de “La bellezza della cura Film Festival” con il secondo appuntamento di proiezione giovedì 18 aprile 2024\, ore 20:30 presso il Capitol Anteo spazioCinema di Monza.\n  \nL’invenzione della neve\, regia di Vittorio Moroni\, racconta di Carmen\, che non ha un passato facile. Da bambina è stata tolta alla madre\, insieme alla sorella Sonia\, e inserita in una casa famiglia. Ora è a sua volta madre di una bambina\, Giada\, che ha avuto con il compagno Massimo. La bambina è stata affidata dal giudice al padre e Carmen la può vedere solo al sabato ogni 15 gg. Ma lei non intende accettare questa decisione perchè\, nonostante gli errori commessi in passato\, si sente e vuole essere madre a pieno titolo.\n  \nIn occasione di questa proiezione\, il regista sarà presente in sala!\n  \nIl costo dei biglietti è di 6 euro per tutte le proiezioni del festival\, e il biglietto ridotto ha tariffa di 5 euro. \n  \nL’acquisto avviene in loco\, presso CapitolAnteo spazioCinema\, sito in via Pennati 10\, Monza (MB)\n  \nVi aspettiamo!
URL:https://generazionesenior.it/evento/la-bellezza-della-cura-film-festival-linvenzione-della-neve/
LOCATION:Capitol Anteo spazioCinema\, Via Pennati 10\, Monza\, Monza e Brianza\, 20900\, Italia
ATTACH;FMTTYPE=image/jpeg:https://generazionesenior.it/wp-content/uploads/2024/02/Logo-BCFF.jpg
ORGANIZER;CN="Generazione Senior":MAILTO:generazione.senior@cooplameridiana.it
END:VEVENT
END:VCALENDAR