BEGIN:VCALENDAR
VERSION:2.0
PRODID:-//Generazione Senior - ECPv6.15.20//NONSGML v1.0//EN
CALSCALE:GREGORIAN
METHOD:PUBLISH
X-WR-CALNAME:Generazione Senior
X-ORIGINAL-URL:https://generazionesenior.it
X-WR-CALDESC:Eventi per Generazione Senior
REFRESH-INTERVAL;VALUE=DURATION:PT1H
X-Robots-Tag:noindex
X-PUBLISHED-TTL:PT1H
BEGIN:VTIMEZONE
TZID:Europe/Rome
BEGIN:DAYLIGHT
TZOFFSETFROM:+0100
TZOFFSETTO:+0200
TZNAME:CEST
DTSTART:20230326T010000
END:DAYLIGHT
BEGIN:STANDARD
TZOFFSETFROM:+0200
TZOFFSETTO:+0100
TZNAME:CET
DTSTART:20231029T010000
END:STANDARD
BEGIN:DAYLIGHT
TZOFFSETFROM:+0100
TZOFFSETTO:+0200
TZNAME:CEST
DTSTART:20240331T010000
END:DAYLIGHT
BEGIN:STANDARD
TZOFFSETFROM:+0200
TZOFFSETTO:+0100
TZNAME:CET
DTSTART:20241027T010000
END:STANDARD
BEGIN:DAYLIGHT
TZOFFSETFROM:+0100
TZOFFSETTO:+0200
TZNAME:CEST
DTSTART:20250330T010000
END:DAYLIGHT
BEGIN:STANDARD
TZOFFSETFROM:+0200
TZOFFSETTO:+0100
TZNAME:CET
DTSTART:20251026T010000
END:STANDARD
END:VTIMEZONE
BEGIN:VEVENT
DTSTART;TZID=Europe/Rome:20241017T200000
DTEND;TZID=Europe/Rome:20241017T220000
DTSTAMP:20260420T141243
CREATED:20241008T152945Z
LAST-MODIFIED:20241008T152945Z
UID:2400-1729195200-1729202400@generazionesenior.it
SUMMARY:Nursind Care Film Festival
DESCRIPTION:Nell’ambito del progetto La Bellezza della Cura Film Festival abbiamo l’onore di proporre anche la settima edizione del “NurSind Care Film Festival” (NCFF). \n  \nQuesto festival nasce con lo scopo di diffondere la cultura del “prendersi cura”\, partendo dal presupposto che nessun essere umano può bastare a sé stesso ma\, in un’ottica sistemica\, ogni essere umano vive all’interno di un legame di interdipendenza con altri esseri umani.\nIn altre parole\, ognuno di noi non può fare a meno dell’altro. Come recita un saggio di Thomas Merton\, “nessun uomo è un’isola”.\nIl NurSind\, organizzazione sindacale\, promotrice dell’iniziativa\, si pone come obiettivo statutario il prendersi cura dell’infermiere e dell’ostetrica; intende\, cioè\, diffondere cultura favorendo\, contemporaneamente\, la conoscenza di quello che è il ruolo dell’infermiere e dell’ostetrica all’interno della nostra società\, e il tema del NurSind CFF rappresenta un aspetto peculiare di quello che è il ruolo dell’infermiere e dell’ostetrica\, ovvero il “prendersi cura” della persona assistita.\nAttraverso la kermesse cinematografica\, il NurSind intende sensibilizzare autori e pubblico in merito al delicato e prezioso compito svolto quotidianamente dagli infermieri e dalle ostetriche all’interno delle organizzazioni sanitarie\, negli ospedali\, nei distretti\, sul lavoro\, al domicilio\, nelle scuole e nelle strade per l’ambito di emergenza-urgenza.\nAttraverso l’iniziativa del NurSind CFF\, il NurSind vuole premiare quegli autori che si mettono in gioco realizzando un cortometraggio o un documentario che raccontino una delle infinite dimensioni del “prendersi cura”.
URL:https://generazionesenior.it/evento/nursind-care-film-festival/
LOCATION:Capitol Anteo spazioCinema\, Via Pennati 10\, Monza\, Monza e Brianza\, 20900\, Italia
ATTACH;FMTTYPE=image/jpeg:https://generazionesenior.it/wp-content/uploads/2024/02/Logo-BCFF.jpg
ORGANIZER;CN="Generazione Senior":MAILTO:generazione.senior@cooplameridiana.it
END:VEVENT
END:VCALENDAR