BEGIN:VCALENDAR
VERSION:2.0
PRODID:-//Generazione Senior - ECPv6.15.20//NONSGML v1.0//EN
CALSCALE:GREGORIAN
METHOD:PUBLISH
X-WR-CALNAME:Generazione Senior
X-ORIGINAL-URL:https://generazionesenior.it
X-WR-CALDESC:Eventi per Generazione Senior
REFRESH-INTERVAL;VALUE=DURATION:PT1H
X-Robots-Tag:noindex
X-PUBLISHED-TTL:PT1H
BEGIN:VTIMEZONE
TZID:Europe/Rome
BEGIN:DAYLIGHT
TZOFFSETFROM:+0100
TZOFFSETTO:+0200
TZNAME:CEST
DTSTART:20240331T010000
END:DAYLIGHT
BEGIN:STANDARD
TZOFFSETFROM:+0200
TZOFFSETTO:+0100
TZNAME:CET
DTSTART:20241027T010000
END:STANDARD
BEGIN:DAYLIGHT
TZOFFSETFROM:+0100
TZOFFSETTO:+0200
TZNAME:CEST
DTSTART:20250330T010000
END:DAYLIGHT
BEGIN:STANDARD
TZOFFSETFROM:+0200
TZOFFSETTO:+0100
TZNAME:CET
DTSTART:20251026T010000
END:STANDARD
BEGIN:DAYLIGHT
TZOFFSETFROM:+0100
TZOFFSETTO:+0200
TZNAME:CEST
DTSTART:20260329T010000
END:DAYLIGHT
BEGIN:STANDARD
TZOFFSETFROM:+0200
TZOFFSETTO:+0100
TZNAME:CET
DTSTART:20261025T010000
END:STANDARD
END:VTIMEZONE
BEGIN:VEVENT
DTSTART;TZID=Europe/Rome:20250606T111500
DTEND;TZID=Europe/Rome:20250606T113000
DTSTAMP:20260420T152626
CREATED:20250529T131718Z
LAST-MODIFIED:20250529T131731Z
UID:4059-1749208500-1749209400@generazionesenior.it
SUMMARY:OASI IN FESTA: Un dono solidale
DESCRIPTION:Per ringraziare tutti coloro che hanno preso parte alla\n#Mission di Generazione Senior per “Insieme si può fare ONLUS” acquistando i saponi di Aleppo\,\nabbiamo pensato a un momento speciale per raccontare il risultato della raccolta fondi avviata a Natale 2025\ne le attività che verranno sostenute in Siria grazie al contributo ricevuto!\n\nVi invitiamo giovedì 6 giugno alle ore 11:15 \npresso il Cortile dell’Oasi San Gerardo (via Gerardo dei Tintori\, 18\, Monza)\n  \nSarà presente Lorenzo Locati\, Presidente di Insieme si può fare ONLUS\n  \nIngresso libero\n 
URL:https://generazionesenior.it/evento/oasi-in-festa-un-dono-solidale/
LOCATION:Oasi San Gerardo\, Via Gerardo dei Tintori 18\, Monza\, Monza e Brianza\, 20900
ATTACH;FMTTYPE=image/jpeg:https://generazionesenior.it/wp-content/uploads/2023/12/IMG-20231206-WA0117.jpg
ORGANIZER;CN="Generazione Senior":MAILTO:generazione.senior@cooplameridiana.it
END:VEVENT
END:VCALENDAR