BEGIN:VCALENDAR
VERSION:2.0
PRODID:-//Generazione Senior - ECPv6.15.20//NONSGML v1.0//EN
CALSCALE:GREGORIAN
METHOD:PUBLISH
X-WR-CALNAME:Generazione Senior
X-ORIGINAL-URL:https://generazionesenior.it
X-WR-CALDESC:Eventi per Generazione Senior
REFRESH-INTERVAL;VALUE=DURATION:PT1H
X-Robots-Tag:noindex
X-PUBLISHED-TTL:PT1H
BEGIN:VTIMEZONE
TZID:Europe/Rome
BEGIN:DAYLIGHT
TZOFFSETFROM:+0100
TZOFFSETTO:+0200
TZNAME:CEST
DTSTART:20230326T010000
END:DAYLIGHT
BEGIN:STANDARD
TZOFFSETFROM:+0200
TZOFFSETTO:+0100
TZNAME:CET
DTSTART:20231029T010000
END:STANDARD
BEGIN:DAYLIGHT
TZOFFSETFROM:+0100
TZOFFSETTO:+0200
TZNAME:CEST
DTSTART:20240331T010000
END:DAYLIGHT
BEGIN:STANDARD
TZOFFSETFROM:+0200
TZOFFSETTO:+0100
TZNAME:CET
DTSTART:20241027T010000
END:STANDARD
BEGIN:DAYLIGHT
TZOFFSETFROM:+0100
TZOFFSETTO:+0200
TZNAME:CEST
DTSTART:20250330T010000
END:DAYLIGHT
BEGIN:STANDARD
TZOFFSETFROM:+0200
TZOFFSETTO:+0100
TZNAME:CET
DTSTART:20251026T010000
END:STANDARD
BEGIN:DAYLIGHT
TZOFFSETFROM:+0100
TZOFFSETTO:+0200
TZNAME:CEST
DTSTART:20260329T010000
END:DAYLIGHT
BEGIN:STANDARD
TZOFFSETFROM:+0200
TZOFFSETTO:+0100
TZNAME:CET
DTSTART:20261025T010000
END:STANDARD
BEGIN:DAYLIGHT
TZOFFSETFROM:+0100
TZOFFSETTO:+0200
TZNAME:CEST
DTSTART:20270328T010000
END:DAYLIGHT
BEGIN:STANDARD
TZOFFSETFROM:+0200
TZOFFSETTO:+0100
TZNAME:CET
DTSTART:20271031T010000
END:STANDARD
END:VTIMEZONE
BEGIN:VEVENT
DTSTART;TZID=Europe/Rome:20260220T160000
DTEND;TZID=Europe/Rome:20260220T173000
DTSTAMP:20260420T141320
CREATED:20260107T115039Z
LAST-MODIFIED:20260219T100152Z
UID:10000702-1771603200-1771608600@generazionesenior.it
SUMMARY:ATTIVATI! - Laboratorio di drammaterapia
DESCRIPTION:Piano di azione territoriale ATTIVATI! (DGR n. 2168 del 15/04/2024)\nLa drammaterapia utilizza tecniche teatrali come l’improvvisazione e il gioco di ruolo per favorire l’espressione creativa\, migliorare le relazioni interpersonali e sostenere il benessere emotivo. \nIl laboratorio è un “luogo sociale protetto”\, dove i partecipanti possono sperimentare nuovi modelli comunicativi\, di socializzazione ed avviare un lavoro di cura per sé e il gruppo attraverso la condivisione di stati d’animo\, vissuti ed emozioni. \n\nLa comunicazione nella fragilità muta\, si fa più emotiva e intensa.\nL’ascolto di sé e dell’altro è a volte silenzioso.\nÈ importante in questi casi essere consapevoli dei propri e altrui bisogni.\n\nPer questo motivo è importante trovare uno spazio di comprensione dentro di sé\, un riparo o degli strumenti che aiutano a rispondere a questi stati d’animo. Avere consapevolezza delle proprie reazioni di fronte alle emozioni nostre e degli altri per una maggiore serenità e chiarezza. \nIl laboratorio\, organizzato in un ciclo di 5 incontri\, è condotto da Paola PERFETTI\, attrice\, formatrice e drammaterapeuta. L’ultimo incontro prevede l’intervento di Sonia POLLET\, psicologa\, per accompagnare nell’approfondimento e rielaborazione teorica dei temi affrontati durante il laboratorio. \nVENERDì 16 – 23 – 30 GENNAIO  \n 13 – 20 FEBBRAIO 2026 \nDALLE ORE 16:00 ALLE 17:30 \nOasi San Gerardo – Via Gerardo dei Tintori 18\, Monza \nEVENTO GRATUITO SU ISCRIZIONE \nIl laboratorio sarà attivato previo raggiungimento del numero minimo di 8 partecipanti. \nPer partecipare al corso prenota il tuo posto cliccando su ISCRIVITI \nQuesta iniziativa è parte del Piano di azione territoriale ATTIVATI!\, approvato da Regione Lombardia\, in cui si inserisce il progetto territoriale della Provincia di Monza Generazione Senior\, presentato da CSV Monza Lecco Sondrio\, in partenariato con altri 8 enti del Terzo settore.\nIntervento finanziato con il contributo di Regione Lombardia
URL:https://generazionesenior.it/evento/attivati-laboratorio-di-drammaterapia-4/
LOCATION:Oasi San Gerardo\, Via Gerardo dei Tintori 18\, Monza\, Monza e Brianza\, 20900
ATTACH;FMTTYPE=image/jpeg:https://generazionesenior.it/wp-content/uploads/2025/10/IMMAGINE-EVIDENZA-EVENTI-SITO.jpg
ORGANIZER;CN="Generazione Senior":MAILTO:generazione.senior@cooplameridiana.it
END:VEVENT
BEGIN:VEVENT
DTSTART;TZID=Europe/Rome:20260116T160000
DTEND;TZID=Europe/Rome:20260116T173000
DTSTAMP:20260420T141320
CREATED:20260107T114904Z
LAST-MODIFIED:20260108T095534Z
UID:10000701-1768579200-1768584600@generazionesenior.it
SUMMARY:ATTIVATI! - Laboratorio di drammaterapia
DESCRIPTION:Piano di azione territoriale ATTIVATI! (DGR n. 2168 del 15/04/2024)\nLa drammaterapia utilizza tecniche teatrali come l’improvvisazione e il gioco di ruolo per favorire l’espressione creativa\, migliorare le relazioni interpersonali e sostenere il benessere emotivo. \nIl laboratorio è un “luogo sociale protetto”\, dove i partecipanti\, in particolare caregiver (formali e informali) e anziani\, possono sperimentare nuovi modelli comunicativi\, di socializzazione ed avviare un lavoro di cura per sé e il gruppo attraverso la condivisione di stati d’animo\, vissuti ed emozioni. \n\nLa comunicazione nella fragilità muta\, si fa più emotiva e intensa.\nL’ascolto di sé e dell’altro è a volte silenzioso.\nÈ importante in questi casi essere consapevoli dei propri e altrui bisogni.\n\nPer questo motivo è importante trovare uno spazio di comprensione dentro di sé\, un riparo o degli strumenti che aiutano a rispondere a questi stati d’animo. Avere consapevolezza delle proprie reazioni di fronte alle emozioni nostre e degli altri per una maggiore serenità e chiarezza. \nIl laboratorio\, organizzato in un ciclo di 5 incontri\, è condotto da Paola PERFETTI\, attrice\, formatrice e drammaterapeuta. L’ultimo incontro prevede l’intervento di Sonia POLLET\, psicologa\, per accompagnare nell’approfondimento e rielaborazione teorica dei temi affrontati durante il laboratorio. \nVENERDì 16 – 23 – 30 GENNAIO  \n6 – 13 FEBBRAIO 2026 \nDALLE ORE 16:00 ALLE 17:30 \nOasi San Gerardo – Via Gerardo dei Tintori 18\, Monza \nEVENTO GRATUITO SU ISCRIZIONE \nIl laboratorio sarà attivato previo raggiungimento del numero minimo di 8 partecipanti. \nPer partecipare al corso prenota il tuo posto cliccando su ISCRIVITI \nQuesta iniziativa è parte del Piano di azione territoriale ATTIVATI!\, approvato da Regione Lombardia\, in cui si inserisce il progetto territoriale della Provincia di Monza Generazione Senior\, presentato da CSV Monza Lecco Sondrio\, in partenariato con altri 8 enti del Terzo settore.\nIntervento finanziato con il contributo di Regione Lombardia
URL:https://generazionesenior.it/evento/attivati-laboratorio-di-drammaterapia-3/
LOCATION:Oasi San Gerardo\, Via Gerardo dei Tintori 18\, Monza\, Monza e Brianza\, 20900
CATEGORIES:Interambito
ATTACH;FMTTYPE=image/jpeg:https://generazionesenior.it/wp-content/uploads/2025/10/IMMAGINE-EVIDENZA-EVENTI-SITO.jpg
ORGANIZER;CN="Generazione Senior":MAILTO:generazione.senior@cooplameridiana.it
END:VEVENT
BEGIN:VEVENT
DTSTART;TZID=Europe/Rome:20251005T110000
DTEND;TZID=Europe/Rome:20251005T113000
DTSTAMP:20260420T141320
CREATED:20250926T085756Z
LAST-MODIFIED:20251001T121553Z
UID:10000333-1759662000-1759663800@generazionesenior.it
SUMMARY:Visita guidata al complesso di San Gerardino ore 11.00
DESCRIPTION:Grazie alla collaborazione con il partner Delegazione FAI di Monza\nabbiamo 5 posti riservati agli iscritti di Generazione Senior\nper la visita guidata al Complesso di San Gerardino\nDomenica 5 ottobre 2025 alle ore 11:00\nContestualmente alla Giornata Nazionale degli Ospedali Storici indetta dall’Associazione Culturale Ospedali Storici Italiani\, l’IRCCS San Gerardo dei Tintori con la collaborazione della Delegazione FAI di Monza propone il seguente programma: visite culturali alla Chiesa e al Complesso di San Gerardino a Monza. Il Complesso di San Gerardino sorge sul luogo in cui nel 1174 San Gerardo fonda l’ospizio per i poveri malati\, adattando la propria abitazione. La struttura architettonica si articola in un corpo principale con doppio loggiato\, corti interne e oratorio\, dedicato in origine a San Gerardo Inframurano\, oggi San Gerardino. La chiesa viene eretta tra la fine del Quattrocento e l’inizio del Cinquecento e viene rinnovata\, con l’intero complesso\, in forme barocche nel 1776; all’interno della chiesa è presente una pregevole Annunciazione attribuita a Bernardino Luini\, inoltre al piano terra dell’antico ospedale si conserva il ciclo pittorico risalente al Settecento con le Storie della Vita e dei Miracoli di San Gerardo\, opera attribuita a Giovanni Maria Gariboldi. \nIscriviti qui sotto per assicurarti il tuo posto!
URL:https://generazionesenior.it/evento/visita-guidata-al-complesso-di-san-gerardino-2/
LOCATION:Oasi San Gerardo\, Via Gerardo dei Tintori 18\, Monza\, Monza e Brianza\, 20900
ATTACH;FMTTYPE=image/jpeg:https://generazionesenior.it/wp-content/uploads/2025/09/oasi-.jpg
ORGANIZER;CN="Generazione Senior":MAILTO:generazione.senior@cooplameridiana.it
END:VEVENT
BEGIN:VEVENT
DTSTART;TZID=Europe/Rome:20251005T103000
DTEND;TZID=Europe/Rome:20251005T110000
DTSTAMP:20260420T141320
CREATED:20250926T085616Z
LAST-MODIFIED:20251001T121420Z
UID:10000332-1759660200-1759662000@generazionesenior.it
SUMMARY:Visita guidata al complesso di San Gerardino ore 10.30
DESCRIPTION:Grazie alla collaborazione con il partner Delegazione FAI di Monza\nabbiamo 5 posti riservati agli iscritti di Generazione Senior\nper la visita guidata al Complesso di San Gerardino\nDomenica 5 ottobre 2025 alle ore 10:30\nContestualmente alla Giornata Nazionale degli Ospedali Storici indetta dall’Associazione Culturale Ospedali Storici Italiani\, l’IRCCS San Gerardo dei Tintori con la collaborazione della Delegazione FAI di Monza propone il seguente programma: visite culturali alla Chiesa e al Complesso di San Gerardino a Monza. Il Complesso di San Gerardino sorge sul luogo in cui nel 1174 San Gerardo fonda l’ospizio per i poveri malati\, adattando la propria abitazione. La struttura architettonica si articola in un corpo principale con doppio loggiato\, corti interne e oratorio\, dedicato in origine a San Gerardo Inframurano\, oggi San Gerardino. La chiesa viene eretta tra la fine del Quattrocento e l’inizio del Cinquecento e viene rinnovata\, con l’intero complesso\, in forme barocche nel 1776; all’interno della chiesa è presente una pregevole Annunciazione attribuita a Bernardino Luini\, inoltre al piano terra dell’antico ospedale si conserva il ciclo pittorico risalente al Settecento con le Storie della Vita e dei Miracoli di San Gerardo\, opera attribuita a Giovanni Maria Gariboldi. \nIscriviti qui sotto per assicurarti il tuo posto!
URL:https://generazionesenior.it/evento/visita-guidata-al-complesso-di-san-gerardino/
LOCATION:Oasi San Gerardo\, Via Gerardo dei Tintori 18\, Monza\, Monza e Brianza\, 20900
ATTACH;FMTTYPE=image/jpeg:https://generazionesenior.it/wp-content/uploads/2025/09/oasi-.jpg
ORGANIZER;CN="Generazione Senior":MAILTO:generazione.senior@cooplameridiana.it
END:VEVENT
BEGIN:VEVENT
DTSTART;TZID=Europe/Rome:20250606T111500
DTEND;TZID=Europe/Rome:20250606T113000
DTSTAMP:20260420T141320
CREATED:20250529T131718Z
LAST-MODIFIED:20250529T131731Z
UID:10000252-1749208500-1749209400@generazionesenior.it
SUMMARY:OASI IN FESTA: Un dono solidale
DESCRIPTION:Per ringraziare tutti coloro che hanno preso parte alla\n#Mission di Generazione Senior per “Insieme si può fare ONLUS” acquistando i saponi di Aleppo\,\nabbiamo pensato a un momento speciale per raccontare il risultato della raccolta fondi avviata a Natale 2025\ne le attività che verranno sostenute in Siria grazie al contributo ricevuto!\n\nVi invitiamo giovedì 6 giugno alle ore 11:15 \npresso il Cortile dell’Oasi San Gerardo (via Gerardo dei Tintori\, 18\, Monza)\n  \nSarà presente Lorenzo Locati\, Presidente di Insieme si può fare ONLUS\n  \nIngresso libero\n 
URL:https://generazionesenior.it/evento/oasi-in-festa-un-dono-solidale/
LOCATION:Oasi San Gerardo\, Via Gerardo dei Tintori 18\, Monza\, Monza e Brianza\, 20900
ATTACH;FMTTYPE=image/jpeg:https://generazionesenior.it/wp-content/uploads/2023/12/IMG-20231206-WA0117.jpg
ORGANIZER;CN="Generazione Senior":MAILTO:generazione.senior@cooplameridiana.it
END:VEVENT
BEGIN:VEVENT
DTSTART;TZID=Europe/Rome:20240606T111500
DTEND;TZID=Europe/Rome:20240606T113000
DTSTAMP:20260420T141320
CREATED:20240522T115751Z
LAST-MODIFIED:20240604T121150Z
UID:10000113-1717672500-1717673400@generazionesenior.it
SUMMARY:Un dono solidale: la Mission di Generazione Senior Evento finale
DESCRIPTION:Per ringraziare tutti coloro che hanno preso parte alla\n#Mission di Generazione Senior per “Insieme si può fare ONLUS” acquistando i saponi di Aleppo\,\nabbiamo pensato a un momento speciale per raccontare il risultato della raccolta fondi avviata a Natale 2024\ne le attività che verranno sostenute in Siria grazie al contributo ricevuto!\n\nVi invitiamo giovedì 6 giugno alle ore 11:15 \npresso il Cortile dell’Oasi San Gerardo (via Gerardo dei Tintori\, 18\, Monza)\n  \nSarà presente Lorenzo Locati\, Presidente di Insieme si può fare ONLUS\n  \nIngresso libero
URL:https://generazionesenior.it/evento/un-gesto-solidale-saponi-di-aleppo/
LOCATION:Oasi San Gerardo\, Via Gerardo dei Tintori 18\, Monza\, Monza e Brianza\, 20900
ATTACH;FMTTYPE=image/jpeg:https://generazionesenior.it/wp-content/uploads/2023/12/IMG-20231206-WA0117.jpg
ORGANIZER;CN="Generazione Senior":MAILTO:generazione.senior@cooplameridiana.it
END:VEVENT
END:VCALENDAR